BEGIN:VCALENDAR
VERSION:2.0
PRODID:-//Plone.org//NONSGML plone.app.event//EN
X-WR-TIMEZONE:America/Sao_Paulo
BEGIN:VEVENT
SUMMARY:Encerramento do Curso de Verão Português como Língua Adicional 
 - Uc CHile UFMG 2024 em [ Auditorio da Reitoria]
DTSTART;TZID=America/Sao_Paulo;VALUE=DATE-TIME:20240202T170000
DTEND;TZID=America/Sao_Paulo;VALUE=DATE-TIME:20240202T210000
DTSTAMP;VALUE=DATE-TIME:20260420T080744Z
UID:5f00684071ad4cc484d143463089b3fc@150.164.76.86:8080
CREATED;VALUE=DATE-TIME:20231219T161947Z
DESCRIPTION:<p>Solicitamos reserva do auditório e do Hall da Reitoria par
 a realização do Encerramento do Curso de Verão Português como Língua 
 Adicional - UC CHile UFMG 2024. Ofertados para os parceiros da UFMG UC CHi
 le.</p>
LAST-MODIFIED;VALUE=DATE-TIME:20240126T175410Z
URL:http://150.164.76.86:8080/cac/agenda/15930948921143192147
END:VEVENT
BEGIN:VTIMEZONE
TZID:America/Sao_Paulo
X-LIC-LOCATION:America/Sao_Paulo
BEGIN:DAYLIGHT
DTSTART;VALUE=DATE-TIME:20231015T010000
TZNAME:BRST
TZOFFSETFROM:-0300
TZOFFSETTO:-0200
END:DAYLIGHT
END:VTIMEZONE
END:VCALENDAR
