BEGIN:VCALENDAR
VERSION:2.0
PRODID:-//Plone.org//NONSGML plone.app.event//EN
X-WR-TIMEZONE:America/Sao_Paulo
BEGIN:VEVENT
SUMMARY:MOSTRA DE FILMES CAAD em [ Auditorio A104 do Cad 2]
DTSTART;TZID=America/Sao_Paulo;VALUE=DATE-TIME:20230704T080000
DTEND;TZID=America/Sao_Paulo;VALUE=DATE-TIME:20230705T210000
DTSTAMP;VALUE=DATE-TIME:20260421T091502Z
UID:4e1ac908be1f4f08872e7375e9973278@150.164.76.86:8080
CREATED;VALUE=DATE-TIME:20230519T132648Z
DESCRIPTION:<p>EQUIPAMENTOS: PROJETOR DE VIDEO CABO HDMI NOTEBOOK 3 MICROF
 ONES 3 PEDESTAIS PARA MICROFONE CAIXAS DE SOM AMPLIFICADAS SERVIÇOS NECES
 SÁRIOS: MESA PARA 5 PARTICIPANTES 5 CADEIRAS PROGRAMAÇÃO DO EVENTO: EXI
 BIÇÃO DE PROJETOS AUDIOVISUAIS DE DISCIPLINAS E FILMES DE GRADUAÇÃO DO
  CURSO DE CINEMA DE ANIMAÇÃO E ARTES DIGITAIS (CAAD) DA UFMG</p>\n<p>OBS
 : Mostra será realizada no dia 05/07/2023\, das 18:30h às 22h. Os demais
  horários são destinados à preparação.</p>
LAST-MODIFIED;VALUE=DATE-TIME:20230602T143138Z
URL:http://150.164.76.86:8080/cac/agenda/15927725295053890985
END:VEVENT
BEGIN:VTIMEZONE
TZID:America/Sao_Paulo
X-LIC-LOCATION:America/Sao_Paulo
BEGIN:STANDARD
DTSTART;VALUE=DATE-TIME:20230225T230000
TZNAME:BRT
TZOFFSETFROM:-0200
TZOFFSETTO:-0300
END:STANDARD
END:VTIMEZONE
END:VCALENDAR
