BEGIN:VCALENDAR
VERSION:2.0
PRODID:-//Plone.org//NONSGML plone.app.event//EN
X-WR-TIMEZONE:America/Sao_Paulo
BEGIN:VEVENT
SUMMARY:PicadeRRÓ UFMG em [ Arena da praça de serviços]
DTSTART;TZID=America/Sao_Paulo;VALUE=DATE-TIME:20221123T170000
DTEND;TZID=America/Sao_Paulo;VALUE=DATE-TIME:20221123T190000
DTSTAMP;VALUE=DATE-TIME:20260421T221747Z
UID:e72eef3d0c6a4e67b2fa7e77c6ec3a18@150.164.76.86:8080
CREATED;VALUE=DATE-TIME:20220919T011253Z
DESCRIPTION:Evento com caixa de som própria\, e reprodução de músicas 
 no estilo forró.\nMúsica e dança durante toda o intervalo do evento\, e
 ntre 17h30 e 19h.\nExpectativa de público de 300 pessoas ao longo de todo
  o evento.\nApoio da Pró-reitoria de Assuntos Estudantes (Prae) UFMG.\nEm
  caso de dúvida\, favor entrar em contato com a \nprofessora Márcia Lous
 ado.
LAST-MODIFIED;VALUE=DATE-TIME:20220922T175923Z
URL:http://150.164.76.86:8080/cac/agenda/15906335171138517599
END:VEVENT
BEGIN:VTIMEZONE
TZID:America/Sao_Paulo
X-LIC-LOCATION:America/Sao_Paulo
BEGIN:DAYLIGHT
DTSTART;VALUE=DATE-TIME:20221016T010000
TZNAME:BRST
TZOFFSETFROM:-0300
TZOFFSETTO:-0200
END:DAYLIGHT
END:VTIMEZONE
END:VCALENDAR
