BEGIN:VCALENDAR
VERSION:2.0
PRODID:-//Plone.org//NONSGML plone.app.event//EN
X-WR-TIMEZONE:America/Sao_Paulo
BEGIN:VEVENT
SUMMARY:Mostra de pesquisa de estudantes negros e negras da UFMG em [ Outr
 os espacos Auditorio A102 do Cad 2 Auditorio A104 do Cad 2]
DTSTART;TZID=America/Sao_Paulo;VALUE=DATE-TIME:20241125T070000
DTEND;TZID=America/Sao_Paulo;VALUE=DATE-TIME:20241125T190000
DTSTAMP;VALUE=DATE-TIME:20260419T175653Z
UID:47a41d967acc4bfd8c85edcbc29439ed@150.164.76.86:8080
CREATED;VALUE=DATE-TIME:20240827T192621Z
DESCRIPTION:<p>Mostra de pesquisa de estudantes negros e negras da UFMG. S
 erá necessário a utilização de 25 painéis</p>
LAST-MODIFIED;VALUE=DATE-TIME:20241023T183013Z
URL:http://150.164.76.86:8080/cac/agenda/15896674715573314507
END:VEVENT
BEGIN:VTIMEZONE
TZID:America/Sao_Paulo
X-LIC-LOCATION:America/Sao_Paulo
BEGIN:DAYLIGHT
DTSTART;VALUE=DATE-TIME:20241020T010000
TZNAME:BRST
TZOFFSETFROM:-0300
TZOFFSETTO:-0200
END:DAYLIGHT
END:VTIMEZONE
END:VCALENDAR
