BEGIN:VCALENDAR
VERSION:2.0
PRODID:-//Plone.org//NONSGML plone.app.event//EN
X-WR-TIMEZONE:America/Sao_Paulo
BEGIN:VEVENT
SUMMARY:Futurama - Semana da Engenharia de Controle e Automação em [ Aud
 itório B106 do CAD3]
DTSTART;TZID=America/Sao_Paulo;VALUE=DATE-TIME:20220919T080000
DTEND;TZID=America/Sao_Paulo;VALUE=DATE-TIME:20220923T120000
DTSTAMP;VALUE=DATE-TIME:20260422T012425Z
UID:b211f6b7fd6f4e57ac38d59a126bf56e@150.164.76.86:8080
CREATED;VALUE=DATE-TIME:20220726T202429Z
DESCRIPTION:<p>O evento é o Futurama - Semana da Engenharia de Controle e
  Automação\, evento anual\, educacional sem fins lucrativos cujo objetiv
 o é direcionar os graduandos quanto ao curso\, as áreas de atuação e a
 s oportunidades oferecidas pela própria universidade. Nesta edição cont
 aremos também com minicursos\, workshops e visitas técnicas para ampliar
  a experiência dos participantes\, além de palestrantes de várias empre
 sas do ramo de automação\, pesquisa e academia\, empreendedorismo e dese
 nvolvimento pessoal. O evento em 2019\, última edição presencial\, foi 
 realizado no auditório do CAD3 e a infraestrutura foi muito elogiada. Gos
 taríamos de repetir o local do evento neste retorno presencial. Solicitam
 os\, portanto\, autorização para utilização de um dos auditórios do C
 AD3 no período de 19 a 23 de setembro de 2022 no período diurno\, entre 
 08:00 e 12:00. A previsão de estudantes participantes é a da lotação m
 áxima dos auditórios\, de acordo com as medidas sanitárias de prevenç
 ão ao COVID-19 sugeridas pela UFMG. Desde já agradecemos e nos colocamos
  à disposição para qualquer dúvida. Atenciosamente\, Prof. Renan Ferna
 ndes Kozan Coordenador do Curso de Graduação em Engenharia de Controle e
  Automação</p>
LAST-MODIFIED;VALUE=DATE-TIME:20220808T152813Z
URL:http://150.164.76.86:8080/cac/agenda/15875374350599762210
END:VEVENT
BEGIN:VTIMEZONE
TZID:America/Sao_Paulo
X-LIC-LOCATION:America/Sao_Paulo
BEGIN:STANDARD
DTSTART;VALUE=DATE-TIME:20220219T230000
TZNAME:BRT
TZOFFSETFROM:-0200
TZOFFSETTO:-0300
END:STANDARD
END:VTIMEZONE
END:VCALENDAR
