BEGIN:VCALENDAR
VERSION:2.0
PRODID:-//Plone.org//NONSGML plone.app.event//EN
X-WR-TIMEZONE:America/Sao_Paulo
BEGIN:VEVENT
SUMMARY:MOSTRA CAAD em [ Auditorio A102 do Cad 2]
DTSTART;TZID=America/Sao_Paulo;VALUE=DATE-TIME:20250310T170000
DTEND;TZID=America/Sao_Paulo;VALUE=DATE-TIME:20250311T220000
DTSTAMP;VALUE=DATE-TIME:20260419T120423Z
UID:18a1ce6004024dc5854d6cde648c51e4@150.164.76.86:8080
CREATED;VALUE=DATE-TIME:20241216T235147Z
DESCRIPTION:<p>O Evento "MOSTRA CAAD" promove a exibição pública dos tr
 abalhos acadêmicos audiovisuais produzidos nas disciplinas do curso de Ci
 nema de Animação e Artes Digitais (CAAD) da UFMG\, incluindo os filmes d
 e conclusão realizados por seus alunos graduandos. A programação prevê
  a apresentação e exibição dos filmes realizados pelos alunos do CAAD\
 , seguida de debate com seus realizadores conduzida pela equipe organizado
 ra do evento.. 1 mesa com 4 cadeiras\; 1 notebook conectado a projetor\; 1
  projetor para exibição dos projetos audiovisuais\; Sistema de som adequ
 ado à projeção\; Tela de projeção\; 3 microfones sem fio para conduç
 ão da apresentação e debate com os realizadores dos filmes.</p>
LAST-MODIFIED;VALUE=DATE-TIME:20241217T145426Z
URL:http://150.164.76.86:8080/cac/agenda/15869173005925458159
END:VEVENT
BEGIN:VTIMEZONE
TZID:America/Sao_Paulo
X-LIC-LOCATION:America/Sao_Paulo
BEGIN:STANDARD
DTSTART;VALUE=DATE-TIME:20250215T230000
TZNAME:BRT
TZOFFSETFROM:-0200
TZOFFSETTO:-0300
END:STANDARD
END:VTIMEZONE
END:VCALENDAR
