BEGIN:VCALENDAR
VERSION:2.0
PRODID:-//Plone.org//NONSGML plone.app.event//EN
X-WR-TIMEZONE:America/Sao_Paulo
BEGIN:VEVENT
SUMMARY:Aula Outlab em [ Auditorio A104 do Cad 2]
DTSTART;TZID=America/Sao_Paulo;VALUE=DATE-TIME:20230823T140000
DTEND;TZID=America/Sao_Paulo;VALUE=DATE-TIME:20230823T170000
DTSTAMP;VALUE=DATE-TIME:20260421T103256Z
UID:4b5129cd147d49f6a314e4cd894d2d21@150.164.76.86:8080
CREATED;VALUE=DATE-TIME:20230801T150405Z
DESCRIPTION:<p><span> 23/08/2023 às 14:00 horas - 17 horas - </span><sp
 an>Evento: Aula Outlab - </span><span>Público: aproximadamente 80 pessoa
 s\; </span><span>Evento com transmissão ao vivo (Youtube PRPq - haverá 
 apoio do TI da PRPq)</span></p>
LAST-MODIFIED;VALUE=DATE-TIME:20230822T111531Z
URL:http://150.164.76.86:8080/cac/agenda/15867696842766984560
END:VEVENT
BEGIN:VTIMEZONE
TZID:America/Sao_Paulo
X-LIC-LOCATION:America/Sao_Paulo
BEGIN:STANDARD
DTSTART;VALUE=DATE-TIME:20230225T230000
TZNAME:BRT
TZOFFSETFROM:-0200
TZOFFSETTO:-0300
END:STANDARD
END:VTIMEZONE
END:VCALENDAR
