BEGIN:VCALENDAR
VERSION:2.0
PRODID:-//Plone.org//NONSGML plone.app.event//EN
X-WR-TIMEZONE:America/Sao_Paulo
BEGIN:VEVENT
SUMMARY:RECEPÇÃO DE CALOUROS 1/2024 em [ Auditorio da Reitoria Saguao da
  Reitoria Gramado da Reitoria Arena da praça de serviços Entorno da Prac
 a de Servicos Auditorio Nobre do CAD 1 Auditorio 1A do CAD 1 Auditorio 2A 
 do CAD 1 Auditorio A102 do Cad 2 Auditorio A104 do Cad 2 Auditório B101/1
 02 do CAD 3 Auditório B106 do CAD3 Auditório B107 do CAD3 Auditório B30
 1 do CAD 3 Auditório B302 do CAD 3 Auditório B306 do CAD3]
DTSTART;TZID=America/Sao_Paulo;VALUE=DATE-TIME:20240229T060000
DTEND;TZID=America/Sao_Paulo;VALUE=DATE-TIME:20240307T210000
DTSTAMP;VALUE=DATE-TIME:20260420T044449Z
UID:20c085f422c943928becbcad9acb9e54@150.164.76.86:8080
CREATED;VALUE=DATE-TIME:20231106T132619Z
DESCRIPTION:<p>RECEPÇÃO DE CALOUROS - EVENTO DO CALENDÁRIO ACADÊMICO</
 p>
LAST-MODIFIED;VALUE=DATE-TIME:20231106T154828Z
URL:http://150.164.76.86:8080/cac/agenda/15865211560433895618
END:VEVENT
BEGIN:VTIMEZONE
TZID:America/Sao_Paulo
X-LIC-LOCATION:America/Sao_Paulo
BEGIN:STANDARD
DTSTART;VALUE=DATE-TIME:20240217T230000
TZNAME:BRT
TZOFFSETFROM:-0200
TZOFFSETTO:-0300
END:STANDARD
END:VTIMEZONE
END:VCALENDAR
