BEGIN:VCALENDAR
VERSION:2.0
PRODID:-//Plone.org//NONSGML plone.app.event//EN
X-WR-TIMEZONE:America/Sao_Paulo
BEGIN:VEVENT
SUMMARY:IV Colóquio pesquisa intervenção em Transtornos do espectro do 
 autismo: a heterogeneidade no espectro em [ Auditorio Nobre do CAD 1]
DTSTART;TZID=America/Sao_Paulo;VALUE=DATE-TIME:20250526T080000
DTEND;TZID=America/Sao_Paulo;VALUE=DATE-TIME:20250528T190000
DTSTAMP;VALUE=DATE-TIME:20260419T091544Z
UID:1b0ca2bde6dc46f7b4f7c6b7c133a4b0@150.164.76.86:8080
CREATED;VALUE=DATE-TIME:20250120T143006Z
DESCRIPTION:<p>IV Colóquio pesquisa intervenção em Transtornos do espec
 tro do autismo: a heterogeneidade no espectro Em 2015 foi realizado na UFM
 G o I Colóquio pesquisa e intervenção em Transtornos do espectro do aut
 ismo (TEA). Essa nova edição\, que ora se apresenta\, tem como foco uma 
 questão não consensual e fundamental dentro do campo\, a heterogeneidade
  no TEA. É muito importante ampliar os espaços científicos de debate so
 bre essa questão. TEA é um transtorno do neurodesenvolvimento que\, hist
 oricamente\, recebeu diferentes modelos de compreensão\, diagnóstico e i
 ntervenção. Atualmente\, a taxa de prevalência\, segundo dados internac
 ionais\, é de 1: 36\, constituindo-se uma questão de saúde pública no 
 Brasil e no mundo. O aumento de prevalência que tem sido visto nos últim
 os anos está relacionado aos critérios propostos no DSM-5 (Diagnostic an
 d Statistical Manual of Mental Disorders)\, quando a ideia de espectro foi
  estabelecida\; tem relação também com a maior conscientização sobre 
 o TEA\, mas é preciso refletir sobre os efeitos psicossociais das mudanç
 as trazidas pelo DSM e os limites do espectro\, a partir dos critérios es
 tabelecidos no próprio manual\, mas também em termos de sub e super diag
 nósticos. Nesse âmbito\, já fica patente a necessidade de ampliar o esp
 aço acadêmico para o debate sobre as intervenções em TEA\, temática q
 ue interessa a pesquisadores e familiares e que se mostra um campo controv
 erso\, demandando diálogo amplo dentro do espaço científico. Pesquisas 
 indicam a necessidade de formação de especialistas em TEA\, no entanto\,
  observa-se que o espaço acadêmico ainda é restrito e a formação sobr
 e a temática\, sobretudo no âmbito da graduação em psicologia e medici
 na\, precária. O esforço que se estabelece na UFMG\, desde 2015\, e que 
 está sendo materializado neste evento\, é o de promover a aproximação 
 dos pesquisadores da UFMG que atuam em pesquisa sobre TEA e/ou oferecem se
 rviços para autistas e suas famílias de modo a promover o desenvolviment
 o de projetos comuns dentro dessa temática com vistas a criar um futuro a
 mbulatório comum\, centro de pesquisa e intervenção dentro da universid
 ade. Assim\, a oportunidade de encontros\, discussões e produções conju
 ntas é fundamental para o desenvolvimento de novas pesquisas em colabora
 ção e para o aprimoramento da formação de pesquisadores. O evento viab
 ilizará a participação conjunta de pesquisadores brasileiros de diverso
 s campos do conhecimento atuando em diferentes cidades\, bem como de pesqu
 isadores de referência internacionais. Também proporcionará o aprofunda
 mento da formação de alunos de pós-graduação e de graduação. Vagas 
 previstas: 600 Local: UFMG Inscrição gratuita via Sympla. Não será cob
 rada taxa de inscrição para estudantes e servidores da UFMG para as ativ
 idades gerais de 27/05/2025. Não serão cobradas taxas para as atividades
  de segmento em participação comunitária (roda de conversa no segundo d
 ia) Serão cobradas taxas para as atividades de segmento (os mini-cursos r
 ealizados no segundo dia) – inscrição será feita separadamente també
 m via Sympla. Prazo de vigência até 28 de maio de 2025 Público-alvo: pr
 ofissionais de diferentes campos do conhecimento que atuam com TEA\, famil
 iares de autistas e autistas Abrangência: internacional Equipe executora:
  Maria Luísa M. Nogueira\; Ana Amélia Cardoso\; alunos de graduação e 
 pós-graduação Apoio: Pós-graduação em TEA UFMG\; Clínica Estrada Ca
 rga horária básica: 10 horas Carga horária com mini-curso: 13 horas Sie
 x número 205509 Período de realização: 27 a 28 de maio de 2025 PROGRAM
 AÇÃO PROPOSTA (pode sofrer alterações em virtude das agendas dos convi
 dados) 27/05/2025 (AUDITÓRIO NOBRE CAD 1) 9h abertura 9h30-11h conferênc
 ia - A heterogeneidade no espectro. Prof. Laurent Mottron 11h- 12h30 confe
 rência - Limites e possibilidades do paradigma da neurodiversidade no TEA
 . Profa Milena Pondé. 14h - mesa redonda - CID e CIF: refletindo sobre n
 íveis de suporte e funcionalidade Ana Amélia Cardoso - DTO Liubiana Aran
 tes – Escola de medicina Alessandra C. A Souza – UFTM 15h30 intervalo 
 16h - 17h30 mesa redonda – Inclusão no contexto brasileiro: individuali
 zar para universalizar Maria Luísa Nogueira – FAFICH Adriana Borges –
  Faculdade de Educação Carlo Schimidt – UFSMP 17h30 conferência: Um n
 ovo olhar sobre o Autismo - Barry M. Prizant 28/05/2025 (FAFICH) Mini-curs
 os 9- 12h PEI – Adriana Borges Escalas – Claudia Cardoso Enriqueciment
 o ambiental para bebês com risco genético para TEA - Poliana Martins Aut
 ismo profundo - Maria Luísa Nogueira TEA na vida adulta - a confirmar Int
 ervenção precoce - a confirmar Integração sensorial no TEA – Ana Am
 élia cardoso CAA e TEA - a confirmar 14h – 17h Rodas de conversa mediad
 as por professores e pós-graduandos da UFMG roda de conversa com autistas
  - TEA e sexualidade roda de conversa com pais - intervenção precoce rod
 a de conversa com pais - crises e comportamentos</p>
LAST-MODIFIED;VALUE=DATE-TIME:20250121T182733Z
URL:http://150.164.76.86:8080/cac/agenda/15856231901690259589
END:VEVENT
BEGIN:VTIMEZONE
TZID:America/Sao_Paulo
X-LIC-LOCATION:America/Sao_Paulo
BEGIN:STANDARD
DTSTART;VALUE=DATE-TIME:20250215T230000
TZNAME:BRT
TZOFFSETFROM:-0200
TZOFFSETTO:-0300
END:STANDARD
END:VTIMEZONE
END:VCALENDAR
