BEGIN:VCALENDAR
VERSION:2.0
PRODID:-//Plone.org//NONSGML plone.app.event//EN
X-WR-TIMEZONE:America/Sao_Paulo
BEGIN:VEVENT
SUMMARY:Concurso Público de Professor Efetivo de L.E - ESPANHOL do Centro
  Pedagógico-CP UFMG 2024 em [ Auditorio A104 do Cad 2]
DTSTART;TZID=America/Sao_Paulo;VALUE=DATE-TIME:20241209T070000
DTEND;TZID=America/Sao_Paulo;VALUE=DATE-TIME:20241209T210000
DTSTAMP;VALUE=DATE-TIME:20260419T163729Z
UID:265ba438a3524d4ea3482a618e436600@150.164.76.86:8080
CREATED;VALUE=DATE-TIME:20240910T191833Z
DESCRIPTION:<p>A pedido da Professora Tânia Aretuza Ambrizi Gebara\, Dire
 tora do Centro Pedagógico - CP/EBAP/UFMG\, solicito a verificação de ag
 endamento de reserva de um auditório no CAD2 e reserva de quatro(4) salas
  de aula no CAD2 - com capacidade pelo menos para 40 pessoas ou mais e com
  carteiras - se possível localizadas próximas no mesmo andar\, para real
 ização de Concurso Público para Professores Efetivos do Centro Pedagóg
 ico - CP de 02 áreas do conhecimento\, conforme descrito abaixo. Respons
 áveis: Profª. Tânia e Prof. Evaldo - Diretoria do CP (dir@cp.ufmg.br) e
  Luciane Lelis (Secretaria Administrativa do CP (CP-Secretaria &lt\;secrge
 ral@cp.ufmg.br&gt\;) 1) Período: dia 09/12/2024 - Concurso Professor de L
 .E - ESPANHOL - uso dos espaços o dia todo: 07:00 até 21:00 (encerrament
 o das atividades no auditório) Programação do Dia - Auditório A101 CAD
  2 (com 01 microfone\, projetor e notebook): - para Abertura do Concurso P
 úblico - de 07:30 às 10:00 horas - instalação da Banca do Concurso - e
  uso do auditório de 13:00 às 20:30 - para aplicação da prova didátic
 a para os candidatos.</p>
LAST-MODIFIED;VALUE=DATE-TIME:20241004T192204Z
URL:http://150.164.76.86:8080/cac/agenda/15849405749380233548
END:VEVENT
BEGIN:VTIMEZONE
TZID:America/Sao_Paulo
X-LIC-LOCATION:America/Sao_Paulo
BEGIN:DAYLIGHT
DTSTART;VALUE=DATE-TIME:20241020T010000
TZNAME:BRST
TZOFFSETFROM:-0300
TZOFFSETTO:-0200
END:DAYLIGHT
END:VTIMEZONE
END:VCALENDAR
