BEGIN:VCALENDAR
VERSION:2.0
PRODID:-//Plone.org//NONSGML plone.app.event//EN
X-WR-TIMEZONE:America/Sao_Paulo
BEGIN:VEVENT
SUMMARY:teste - Habilidades 2022 - Técnico de áudio em [ Auditorio 1A do
  CAD 1 Auditorio 2A do CAD 1 Auditorio Nobre do CAD 1]
DTSTART;TZID=America/Sao_Paulo;VALUE=DATE-TIME:20220210T120000
DTEND;TZID=America/Sao_Paulo;VALUE=DATE-TIME:20220210T180000
DTSTAMP;VALUE=DATE-TIME:20260422T111749Z
UID:c4aed0d532924668a397bb3bd5055fc1@150.164.76.86:8080
CREATED;VALUE=DATE-TIME:20220207T120912Z
DESCRIPTION:<p>teste - Habilidades 2022 - Técnico de áudio</p>
LAST-MODIFIED;VALUE=DATE-TIME:20220207T120949Z
URL:http://150.164.76.86:8080/cac/agenda/15831732436330270491
END:VEVENT
BEGIN:VTIMEZONE
TZID:America/Sao_Paulo
X-LIC-LOCATION:America/Sao_Paulo
BEGIN:DAYLIGHT
DTSTART;VALUE=DATE-TIME:20211017T010000
TZNAME:BRST
TZOFFSETFROM:-0300
TZOFFSETTO:-0200
END:DAYLIGHT
END:VTIMEZONE
END:VCALENDAR
