BEGIN:VCALENDAR
VERSION:2.0
PRODID:-//Plone.org//NONSGML plone.app.event//EN
X-WR-TIMEZONE:America/Sao_Paulo
BEGIN:VEVENT
SUMMARY:Workshop em Criotécnicas em [ Auditorio A104 do Cad 2]
DTSTART;TZID=America/Sao_Paulo;VALUE=DATE-TIME:20241202T080000
DTEND;TZID=America/Sao_Paulo;VALUE=DATE-TIME:20241202T190000
DTSTAMP;VALUE=DATE-TIME:20260419T150327Z
UID:37c1b5a0f2854d49b3d3f50c52856a0d@150.164.76.86:8080
CREATED;VALUE=DATE-TIME:20240925T140310Z
DESCRIPTION:<p>O Centro de Microscopia e Bioimg irá promover um Workshop 
 sobre Técnicas em Criomicroscopia\, a ser realizado no dia 02 de dezembro
  de 2024. Este evento contará com a participação de renomados pesquisad
 ores do King's College London\, CNPEN e UFRJ\, que compartilharão seu con
 hecimento e experiência em criomicroscopia\, uma técnica avançada que v
 em revolucionando o campo da biologia estrutural. O workshop tem como obje
 tivo oferecer aos participantes uma visão aprofundada sobre os métodos d
 e preparação de amostras e as aplicações da criomicroscopia\, destacan
 do suas contribuições para avanços científicos em diversas áreas. Com
  foco na transmissão de técnicas práticas e discussões sobre os mais r
 ecentes desenvolvimentos\, o evento promete enriquecer o conhecimento de p
 rofissionais e estudantes envolvidos em pesquisas de bioimagem. A expectat
 iva é que o workshop reúna cerca de 100 participantes\, entre estudantes
 \, professores e profissionais da área\, proporcionando uma oportunidade 
 única para a troca de experiências e o estabelecimento de colaborações
 . O Evento irá precisar de recursos audiovisual e auditório que comporte
  o público esperado. Durante o evento será oferecido um coffebreak\, sen
 do assim\, solicitado o uso do saguão do CAD2.</p>
LAST-MODIFIED;VALUE=DATE-TIME:20241128T192050Z
URL:http://150.164.76.86:8080/cac/agenda/15831341547740488
END:VEVENT
BEGIN:VTIMEZONE
TZID:America/Sao_Paulo
X-LIC-LOCATION:America/Sao_Paulo
BEGIN:DAYLIGHT
DTSTART;VALUE=DATE-TIME:20241020T010000
TZNAME:BRST
TZOFFSETFROM:-0300
TZOFFSETTO:-0200
END:DAYLIGHT
END:VTIMEZONE
END:VCALENDAR
