BEGIN:VCALENDAR
VERSION:2.0
PRODID:-//Plone.org//NONSGML plone.app.event//EN
X-WR-TIMEZONE:America/Sao_Paulo
BEGIN:VEVENT
SUMMARY:Tópicos em Filosofia em [ Auditório B107 do CAD3]
DTSTART;TZID=America/Sao_Paulo;VALUE=DATE-TIME:20240503T130000
DTEND;TZID=America/Sao_Paulo;VALUE=DATE-TIME:20240503T180000
DTSTAMP;VALUE=DATE-TIME:20260420T014515Z
UID:9e300418050c4ceab2adf10945d28e58@150.164.76.86:8080
CREATED;VALUE=DATE-TIME:20240306T124240Z
DESCRIPTION:<p>Aula ampliada da disciplina Tópicos em Filosofia. Atividad
 e com a presença do servidor Fabricio Riff para ajudar na TI.</p>
LAST-MODIFIED;VALUE=DATE-TIME:20240430T183724Z
URL:http://150.164.76.86:8080/cac/agenda/15830590454275591140
END:VEVENT
BEGIN:VTIMEZONE
TZID:America/Sao_Paulo
X-LIC-LOCATION:America/Sao_Paulo
BEGIN:STANDARD
DTSTART;VALUE=DATE-TIME:20240217T230000
TZNAME:BRT
TZOFFSETFROM:-0200
TZOFFSETTO:-0300
END:STANDARD
END:VTIMEZONE
END:VCALENDAR
