BEGIN:VCALENDAR
VERSION:2.0
PRODID:-//Plone.org//NONSGML plone.app.event//EN
X-WR-TIMEZONE:America/Sao_Paulo
BEGIN:VEVENT
SUMMARY:Gravação Grupo de Percussão da UFMG em [ Auditório B101/102 do
  CAD 3]
DTSTART;TZID=America/Sao_Paulo;VALUE=DATE-TIME:20231021T070000
DTEND;TZID=America/Sao_Paulo;VALUE=DATE-TIME:20231022T210000
DTSTAMP;VALUE=DATE-TIME:20260420T231028Z
UID:2810bef762ab400ebcab95af11743329@150.164.76.86:8080
CREATED;VALUE=DATE-TIME:20230417T143325Z
DESCRIPTION:<p>Gravação de álbum comemoração de 25 anos do Grupo de P
 ercussão da UFMG</p>
LAST-MODIFIED;VALUE=DATE-TIME:20230418T132216Z
URL:http://150.164.76.86:8080/cac/agenda/15823522580921577981
END:VEVENT
BEGIN:VTIMEZONE
TZID:America/Sao_Paulo
X-LIC-LOCATION:America/Sao_Paulo
BEGIN:DAYLIGHT
DTSTART;VALUE=DATE-TIME:20231015T010000
TZNAME:BRST
TZOFFSETFROM:-0300
TZOFFSETTO:-0200
END:DAYLIGHT
END:VTIMEZONE
END:VCALENDAR
