BEGIN:VCALENDAR
VERSION:2.0
PRODID:-//Plone.org//NONSGML plone.app.event//EN
X-WR-TIMEZONE:America/Sao_Paulo
BEGIN:VEVENT
SUMMARY:Reunião com INEPE em [ Outros espacos]
DTSTART;TZID=America/Sao_Paulo;VALUE=DATE-TIME:20230630T090000
DTEND;TZID=America/Sao_Paulo;VALUE=DATE-TIME:20230630T130000
DTSTAMP;VALUE=DATE-TIME:20260421T120009Z
UID:ed1e3c6f03e449f49b3f1998a66ce714@150.164.76.86:8080
CREATED;VALUE=DATE-TIME:20230628T204400Z
DESCRIPTION:<p>Sala de sessões e 7009</p>
LAST-MODIFIED;VALUE=DATE-TIME:20230628T204502Z
URL:http://150.164.76.86:8080/cac/agenda/15802231021782714646
END:VEVENT
BEGIN:VTIMEZONE
TZID:America/Sao_Paulo
X-LIC-LOCATION:America/Sao_Paulo
BEGIN:STANDARD
DTSTART;VALUE=DATE-TIME:20230225T230000
TZNAME:BRT
TZOFFSETFROM:-0200
TZOFFSETTO:-0300
END:STANDARD
END:VTIMEZONE
END:VCALENDAR
