BEGIN:VCALENDAR
VERSION:2.0
PRODID:-//Plone.org//NONSGML plone.app.event//EN
X-WR-TIMEZONE:America/Sao_Paulo
BEGIN:VEVENT
SUMMARY:Reunião CEPE em [ Outros espacos]
DTSTART;TZID=America/Sao_Paulo;VALUE=DATE-TIME:20230622T140000
DTEND;TZID=America/Sao_Paulo;VALUE=DATE-TIME:20230622T180000
DTSTAMP;VALUE=DATE-TIME:20260421T145855Z
UID:b166f4d0ecdf4e1d84916dcbea951ea4@150.164.76.86:8080
CREATED;VALUE=DATE-TIME:20230616T143302Z
DESCRIPTION:<p><span><span><span>Operar o equipamento multimídia da Sala 
 das Sessões e gravar em áudio a reunião</span></span></span></p>
LAST-MODIFIED;VALUE=DATE-TIME:20230616T143317Z
URL:http://150.164.76.86:8080/cac/agenda/15798413978059362159
END:VEVENT
BEGIN:VTIMEZONE
TZID:America/Sao_Paulo
X-LIC-LOCATION:America/Sao_Paulo
BEGIN:STANDARD
DTSTART;VALUE=DATE-TIME:20230225T230000
TZNAME:BRT
TZOFFSETFROM:-0200
TZOFFSETTO:-0300
END:STANDARD
END:VTIMEZONE
END:VCALENDAR
