BEGIN:VCALENDAR
VERSION:2.0
PRODID:-//Plone.org//NONSGML plone.app.event//EN
X-WR-TIMEZONE:America/Sao_Paulo
BEGIN:VEVENT
SUMMARY:Reunião Conselho Universitário em [ Outros espacos]
DTSTART;TZID=America/Sao_Paulo;VALUE=DATE-TIME:20230706T140000
DTEND;TZID=America/Sao_Paulo;VALUE=DATE-TIME:20230706T170000
DTSTAMP;VALUE=DATE-TIME:20260421T091548Z
UID:2bb6e2f8cb6d49ae80400e5e4f4066eb@150.164.76.86:8080
CREATED;VALUE=DATE-TIME:20230703T105043Z
DESCRIPTION:<p><span><span><span>Operar o equipamento multimídia da Sala 
 das Sessões e gravar em áudio a reunião do <b>Conselho Universitário<
 /b> <br /></span></span></span></p>
LAST-MODIFIED;VALUE=DATE-TIME:20230703T105108Z
URL:http://150.164.76.86:8080/cac/agenda/15772085064907630408
END:VEVENT
BEGIN:VTIMEZONE
TZID:America/Sao_Paulo
X-LIC-LOCATION:America/Sao_Paulo
BEGIN:STANDARD
DTSTART;VALUE=DATE-TIME:20230225T230000
TZNAME:BRT
TZOFFSETFROM:-0200
TZOFFSETTO:-0300
END:STANDARD
END:VTIMEZONE
END:VCALENDAR
