BEGIN:VCALENDAR
VERSION:2.0
PRODID:-//Plone.org//NONSGML plone.app.event//EN
X-WR-TIMEZONE:America/Sao_Paulo
BEGIN:VEVENT
SUMMARY:Feriado: Proclamação da República em [ Auditorio da Reitoria Sa
 guao da Reitoria Gramado da Reitoria Arena da praça de serviços Entorno 
 da Praca de Servicos Auditorio Nobre do CAD 1 Auditorio 1A do CAD 1 Audito
 rio 2A do CAD 1 Auditorio A102 do Cad 2 Auditorio A104 do Cad 2 Auditório
  B101/102 do CAD 3 Auditório B106 do CAD3 Auditório B107 do CAD3]
DTSTART;TZID=America/Sao_Paulo;VALUE=DATE-TIME:20241115T060000
DTEND;TZID=America/Sao_Paulo;VALUE=DATE-TIME:20241115T220000
DTSTAMP;VALUE=DATE-TIME:20260419T175433Z
UID:80656c835d56424d8b299d23eebec4f0@150.164.76.86:8080
CREATED;VALUE=DATE-TIME:20231106T134037Z
DESCRIPTION:<p>Feriado</p>
LAST-MODIFIED;VALUE=DATE-TIME:20231106T134119Z
URL:http://150.164.76.86:8080/cac/agenda/15763119117473206449
END:VEVENT
BEGIN:VTIMEZONE
TZID:America/Sao_Paulo
X-LIC-LOCATION:America/Sao_Paulo
BEGIN:DAYLIGHT
DTSTART;VALUE=DATE-TIME:20241020T010000
TZNAME:BRST
TZOFFSETFROM:-0300
TZOFFSETTO:-0200
END:DAYLIGHT
END:VTIMEZONE
END:VCALENDAR
