BEGIN:VCALENDAR
VERSION:2.0
PRODID:-//Plone.org//NONSGML plone.app.event//EN
X-WR-TIMEZONE:America/Sao_Paulo
BEGIN:VEVENT
SUMMARY:Palestra com representante da Air Force Americana sobre oportunida
 des de pesquisa em [ Auditório B107 do CAD3]
DTSTART;TZID=America/Sao_Paulo;VALUE=DATE-TIME:20241106T140000
DTEND;TZID=America/Sao_Paulo;VALUE=DATE-TIME:20241106T153000
DTSTAMP;VALUE=DATE-TIME:20260419T180216Z
UID:ba69362c24a14b888d5aabe83bb98999@150.164.76.86:8080
CREATED;VALUE=DATE-TIME:20241029T172058Z
DESCRIPTION:Representante da Força Aérea dos Estados Unidos irá palestr
 ar a respeito de oportunidades de financiamento de pesquisa. Possivelmente
  o evento também contará com a presença da Embaixada dos EUA em Belo Ho
 rizonte.\n1h de palestra + 30min para perguntas e respostas\nSerá necess
 ário equipamento para utilização de power point.
LAST-MODIFIED;VALUE=DATE-TIME:20241029T180022Z
URL:http://150.164.76.86:8080/cac/agenda/15732122639133275971
END:VEVENT
BEGIN:VTIMEZONE
TZID:America/Sao_Paulo
X-LIC-LOCATION:America/Sao_Paulo
BEGIN:DAYLIGHT
DTSTART;VALUE=DATE-TIME:20241020T010000
TZNAME:BRST
TZOFFSETFROM:-0300
TZOFFSETTO:-0200
END:DAYLIGHT
END:VTIMEZONE
END:VCALENDAR
