BEGIN:VCALENDAR
VERSION:2.0
PRODID:-//Plone.org//NONSGML plone.app.event//EN
X-WR-TIMEZONE:America/Sao_Paulo
BEGIN:VEVENT
SUMMARY:2° Treinamento Alunos Voluntários - Mostra Sua UFMG 2025 em [ Au
 ditorio A104 do Cad 2]
DTSTART;TZID=America/Sao_Paulo;VALUE=DATE-TIME:20250521T130000
DTEND;TZID=America/Sao_Paulo;VALUE=DATE-TIME:20250521T170000
DTSTAMP;VALUE=DATE-TIME:20260419T091154Z
UID:f15efb1cbd6a40989bbed294c9f09af9@150.164.76.86:8080
CREATED;VALUE=DATE-TIME:20250430T202334Z
DESCRIPTION:<p>2º treinamento com os estudantes voluntários\, presencial
  às 11:00\, costuma-se ter uma desistência de voluntários mais próximo
  ao evento\, sendo necessário uma segunda convocação de alunos. A media
  de 100\, mas esse numero esta em aberto\, mas não passa a capacidade do 
 auditório.</p>
LAST-MODIFIED;VALUE=DATE-TIME:20250519T185411Z
URL:http://150.164.76.86:8080/cac/agenda/15726237527679460192
END:VEVENT
BEGIN:VTIMEZONE
TZID:America/Sao_Paulo
X-LIC-LOCATION:America/Sao_Paulo
BEGIN:STANDARD
DTSTART;VALUE=DATE-TIME:20250215T230000
TZNAME:BRT
TZOFFSETFROM:-0200
TZOFFSETTO:-0300
END:STANDARD
END:VTIMEZONE
END:VCALENDAR
