BEGIN:VCALENDAR
VERSION:2.0
PRODID:-//Plone.org//NONSGML plone.app.event//EN
X-WR-TIMEZONE:America/Sao_Paulo
BEGIN:VEVENT
SUMMARY:Exame de Proficiência alunos do Coltec - 2º ano em [ Auditorio N
 obre do CAD 1]
DTSTART;TZID=America/Sao_Paulo;VALUE=DATE-TIME:20220330T090000
DTEND;TZID=America/Sao_Paulo;VALUE=DATE-TIME:20220330T120000
DTSTAMP;VALUE=DATE-TIME:20260422T110424Z
UID:ce5522b81c7042da86f785af7c096e7a@150.164.76.86:8080
CREATED;VALUE=DATE-TIME:20220202T182427Z
DESCRIPTION:<p>Realização de prova de proficiência em língua inglesa p
 ara os alunos do 2º ano do Coltec. A prova precisa ser realizada de forma
  simultânea para todos os estudantes e por isso precisamos de um local am
 plo para a aplicação das provas.</p>
LAST-MODIFIED;VALUE=DATE-TIME:20220303T125929Z
URL:http://150.164.76.86:8080/cac/agenda/1572221491519133624
END:VEVENT
BEGIN:VTIMEZONE
TZID:America/Sao_Paulo
X-LIC-LOCATION:America/Sao_Paulo
BEGIN:STANDARD
DTSTART;VALUE=DATE-TIME:20220219T230000
TZNAME:BRT
TZOFFSETFROM:-0200
TZOFFSETTO:-0300
END:STANDARD
END:VTIMEZONE
END:VCALENDAR
