BEGIN:VCALENDAR
VERSION:2.0
PRODID:-//Plone.org//NONSGML plone.app.event//EN
X-WR-TIMEZONE:America/Sao_Paulo
BEGIN:VEVENT
SUMMARY:Pré-reserva  em [ Auditorio A102 do Cad 2]
DTSTART;TZID=America/Sao_Paulo;VALUE=DATE-TIME:20240509T070000
DTEND;TZID=America/Sao_Paulo;VALUE=DATE-TIME:20240509T200000
DTSTAMP;VALUE=DATE-TIME:20260420T031129Z
UID:16b64c81193d438bb13d04b3508c1775@150.164.76.86:8080
CREATED;VALUE=DATE-TIME:20240118T130347Z
DESCRIPTION:<p>pré-reserva</p>
LAST-MODIFIED;VALUE=DATE-TIME:20240506T183348Z
URL:http://150.164.76.86:8080/cac/agenda/15716073348353532101
END:VEVENT
BEGIN:VTIMEZONE
TZID:America/Sao_Paulo
X-LIC-LOCATION:America/Sao_Paulo
BEGIN:STANDARD
DTSTART;VALUE=DATE-TIME:20240217T230000
TZNAME:BRT
TZOFFSETFROM:-0200
TZOFFSETTO:-0300
END:STANDARD
END:VTIMEZONE
END:VCALENDAR
