BEGIN:VCALENDAR
VERSION:2.0
PRODID:-//Plone.org//NONSGML plone.app.event//EN
X-WR-TIMEZONE:America/Sao_Paulo
BEGIN:VEVENT
SUMMARY:I Simpósio Internacional da Síndrome Metabólica Equina em [ Aud
 itorio A102 do Cad 2]
DTSTART;TZID=America/Sao_Paulo;VALUE=DATE-TIME:20250314T090000
DTEND;TZID=America/Sao_Paulo;VALUE=DATE-TIME:20250315T180000
DTSTAMP;VALUE=DATE-TIME:20260419T120248Z
UID:a4369e79b6574210bda795a89f31dabc@150.164.76.86:8080
CREATED;VALUE=DATE-TIME:20241124T131052Z
DESCRIPTION:<p>Precisaremos dos equipamentos de áudio e vídeo disponíve
 is na sala reservada (já fechamos com o TAE da da Escola de Veterinária 
 Bruno do áudio visual\, ele nos dará suporte\, assim como em nosso outro
  evento o XII SIMCAV). Programação do evento: 14 de Março de 2025 17:45
 -18:00 Abertura 18:00-18:50 Fisiopatologia e diagnóstico da SME Dr. Ramir
 o Toribio – Ohio State University 18:50-19:40 Disfunção pituitária da
  pars intermedia: relevância clínica e diagnóstico Palestrante à confi
 rmar 19:40-20:00 Café com prosa 20:00-20:50 Diagnosticando SME e PPID no 
 Brasil: exemplos de casos clínicos Dra. Beatriz Bringel - Bet Labs 20:50-
 21:30 Mesa Redonda – Diagnóstico eficiente da SME e PPID Moderação: P
 rof. Rafael Faleiros - UFMG 15 de Março de 2025 08:30-09:20 Mesa Redonda 
 - Obesidade no Mangalarga Marchador: achados científicos recentes Modera
 ção: Isabella Caixeta Winter\, Pamella Grossi de Sousa e Stella Swerts -
  UFMG 09:20-10:10 Repercussões da SME no desenvolvimento de potros Prof. 
 Carlos Nogueira - UFPel 10:10-10:40 Café com prosa 10:40-11:30 Obesidade/
 SME e desempenho do cavalo atleta Prof. Diogo Jayme - UFMG 11:30-12:20 Est
 ratégias nutricionais para prevenção e tratamento da SME Prof. Alexandr
 e Gobesso – USP 12:20-14:30 Almoço 14:30-15:30 Consequências reproduti
 vas da SME Profa. Fernanda Jordão – UNESP Jaboticabal 15:30-16:30 Diagn
 óstico e tratamento de problemas reprodutivos em éguas obesas Prof. Júl
 io Jacob - UFRJ 16:30-17:00 Café com prosa 17:00- 18:00 Mesa Redonda – 
 Estratégias para o combate da SME em raças nacionais Moderação: Prof. 
 Vinícius Raposo - IFMG Bambuí</p>
LAST-MODIFIED;VALUE=DATE-TIME:20241125T125633Z
URL:http://150.164.76.86:8080/cac/agenda/15704902679480486172
END:VEVENT
BEGIN:VTIMEZONE
TZID:America/Sao_Paulo
X-LIC-LOCATION:America/Sao_Paulo
BEGIN:STANDARD
DTSTART;VALUE=DATE-TIME:20250215T230000
TZNAME:BRT
TZOFFSETFROM:-0200
TZOFFSETTO:-0300
END:STANDARD
END:VTIMEZONE
END:VCALENDAR
