BEGIN:VCALENDAR
VERSION:2.0
PRODID:-//Plone.org//NONSGML plone.app.event//EN
X-WR-TIMEZONE:America/Sao_Paulo
BEGIN:VEVENT
SUMMARY:Seminário DAP em [ Auditorio A102 do Cad 2]
DTSTART;TZID=America/Sao_Paulo;VALUE=DATE-TIME:20230324T080000
DTEND;TZID=America/Sao_Paulo;VALUE=DATE-TIME:20230324T170000
DTSTAMP;VALUE=DATE-TIME:20260421T164318Z
UID:d392ba5443044ebb88c025b794442d3e@150.164.76.86:8080
CREATED;VALUE=DATE-TIME:20230223T172115Z
DESCRIPTION:<p>Seminário para demonstração de resultados do Departament
 o de Administração de Pessoal. Serviços equipamentos e serviços necess
 ários: Microfone computador Caixa de som Datashow Técnico de informátic
 a Àgua café Programação do Evento: Parte da manhã: Demonstração de 
 resultados Parte da Tarde: Palestra/ Cinema</p>
LAST-MODIFIED;VALUE=DATE-TIME:20230317T173050Z
URL:http://150.164.76.86:8080/cac/agenda/15704013318609231934
END:VEVENT
BEGIN:VTIMEZONE
TZID:America/Sao_Paulo
X-LIC-LOCATION:America/Sao_Paulo
BEGIN:STANDARD
DTSTART;VALUE=DATE-TIME:20230225T230000
TZNAME:BRT
TZOFFSETFROM:-0200
TZOFFSETTO:-0300
END:STANDARD
END:VTIMEZONE
END:VCALENDAR
