BEGIN:VCALENDAR
VERSION:2.0
PRODID:-//Plone.org//NONSGML plone.app.event//EN
X-WR-TIMEZONE:America/Sao_Paulo
BEGIN:VEVENT
SUMMARY:Amerek.Lab em [ Outros espacos]
DTSTART;TZID=America/Sao_Paulo;VALUE=DATE-TIME:20220710T083000
DTEND;TZID=America/Sao_Paulo;VALUE=DATE-TIME:20220716T180000
DTSTAMP;VALUE=DATE-TIME:20260422T044343Z
UID:11fd53873cf34660af186e45c928b42a@150.164.76.86:8080
CREATED;VALUE=DATE-TIME:20220620T164456Z
DESCRIPTION:<p>o Amerek.Lab\, evento de inovação e experimentação de d
 ivulgação científica\, de caráter nacional\, com apoio do Inst. Serrap
 ilheira\, DDC-Proex\, e parceria com a organização SI.LO\, acontecerá e
 ntre os dias 10 e 16 de julho de 2022. Trata-se de 6 projetos colaborativo
 s aberto\,s cada um composto de uma euqipe de cerca de 5 pessoas. As equip
 es são acompanhadas por monitores e pela comissão organizadora do evento
 \, sendo portanto cerca de 35-40 pessoas que participarão da semana de im
 ersão. Para o evento\, o espaço ideal é um espaço aberto porém proteg
 ido de chuva e vento\, como os espaços adjacentes ao CAD 1. Em tal espaç
 o\, há a necessidade da seguinte estrutura\, nos dias 10-16 /7/2022\, nos
  horários de 8.30hs até 18hs: - 7 mesas grandes (ou 7 planos de apoios g
 randes com cavaletes) - 7 paredes divisória MDF\, ou quadros negros - 40 
 entre banquinhos ou cadeiras - 1 TV digital\, com entrada hdmi e usb - se 
 possível\, 1 ponto de acesso à rede internet - disponibilidade de um cô
 modo que possa ser trancado onde guardar os materiais à noite\, nos dias 
 do evento.</p>
LAST-MODIFIED;VALUE=DATE-TIME:20220706T155928Z
URL:http://150.164.76.86:8080/cac/agenda/15693215461550281173
END:VEVENT
BEGIN:VTIMEZONE
TZID:America/Sao_Paulo
X-LIC-LOCATION:America/Sao_Paulo
BEGIN:STANDARD
DTSTART;VALUE=DATE-TIME:20220219T230000
TZNAME:BRT
TZOFFSETFROM:-0200
TZOFFSETTO:-0300
END:STANDARD
END:VTIMEZONE
END:VCALENDAR
