BEGIN:VCALENDAR
VERSION:2.0
PRODID:-//Plone.org//NONSGML plone.app.event//EN
X-WR-TIMEZONE:America/Sao_Paulo
BEGIN:VEVENT
SUMMARY:Festival da República da Coréia em [ Outros espacos]
DTSTART;TZID=America/Sao_Paulo;VALUE=DATE-TIME:20200428T090000
DTEND;TZID=America/Sao_Paulo;VALUE=DATE-TIME:20200429T200000
DTSTAMP;VALUE=DATE-TIME:20260425T000738Z
UID:6f27091347c54abea9c63f645069916e@150.164.76.86:8080
CREATED;VALUE=DATE-TIME:20200108T145347Z
DESCRIPTION:Palestras e apresentação de dança sobre a Coréia. Será ne
 cessária equipamento de  iluminação e som.
LAST-MODIFIED;VALUE=DATE-TIME:20200115T194438Z
URL:http://150.164.76.86:8080/cac/agenda/15664606931184837343
END:VEVENT
BEGIN:VTIMEZONE
TZID:America/Sao_Paulo
X-LIC-LOCATION:America/Sao_Paulo
BEGIN:STANDARD
DTSTART;VALUE=DATE-TIME:20200215T230000
TZNAME:BRT
TZOFFSETFROM:-0200
TZOFFSETTO:-0300
END:STANDARD
END:VTIMEZONE
END:VCALENDAR
