BEGIN:VCALENDAR
VERSION:2.0
PRODID:-//Plone.org//NONSGML plone.app.event//EN
X-WR-TIMEZONE:America/Sao_Paulo
BEGIN:VEVENT
SUMMARY:FEIRA DA UFMG - Agroecologia e Economia Popular Solidária em [ En
 torno da Praca de Servicos]
DTSTART;TZID=America/Sao_Paulo;VALUE=DATE-TIME:20241113T070000
DTEND;TZID=America/Sao_Paulo;VALUE=DATE-TIME:20241113T180000
DTSTAMP;VALUE=DATE-TIME:20260419T175928Z
UID:48f0ad267a61451ba34b2b19645da54c@150.164.76.86:8080
CREATED;VALUE=DATE-TIME:20240205T190812Z
DESCRIPTION:Não usaremos nenhum equipamento ou serviço adicional.\nA pro
 gramação ainda está sendo elaborada.
LAST-MODIFIED;VALUE=DATE-TIME:20240205T192340Z
URL:http://150.164.76.86:8080/cac/agenda/15662763898444799007
END:VEVENT
BEGIN:VTIMEZONE
TZID:America/Sao_Paulo
X-LIC-LOCATION:America/Sao_Paulo
BEGIN:DAYLIGHT
DTSTART;VALUE=DATE-TIME:20241020T010000
TZNAME:BRST
TZOFFSETFROM:-0300
TZOFFSETTO:-0200
END:DAYLIGHT
END:VTIMEZONE
END:VCALENDAR
