BEGIN:VCALENDAR
VERSION:2.0
PRODID:-//Plone.org//NONSGML plone.app.event//EN
X-WR-TIMEZONE:America/Sao_Paulo
BEGIN:VEVENT
SUMMARY:OUTLAB - CAPACITAÇÃO EM EMPREENDEDORISMO E GESTÃO PARA INFRAEST
 RUTURAS DE PESQUISA em [ Outros espacos Auditorio da Reitoria]
DTSTART;TZID=America/Sao_Paulo;VALUE=DATE-TIME:20241030T133000
DTEND;TZID=America/Sao_Paulo;VALUE=DATE-TIME:20241030T173000
DTSTAMP;VALUE=DATE-TIME:20260419T192249Z
UID:3abffdd40a644e92af68dc616e945a14@150.164.76.86:8080
CREATED;VALUE=DATE-TIME:20240829T180100Z
DESCRIPTION:<p>Microfone Câmera Ajustes para Transmissão Online Saguão 
 para coffee-break Sessão de encerramento do OutLab 2024</p>
LAST-MODIFIED;VALUE=DATE-TIME:20241011T195755Z
URL:http://150.164.76.86:8080/cac/agenda/15639637027349339464
END:VEVENT
BEGIN:VTIMEZONE
TZID:America/Sao_Paulo
X-LIC-LOCATION:America/Sao_Paulo
BEGIN:DAYLIGHT
DTSTART;VALUE=DATE-TIME:20241020T010000
TZNAME:BRST
TZOFFSETFROM:-0300
TZOFFSETTO:-0200
END:DAYLIGHT
END:VTIMEZONE
END:VCALENDAR
