BEGIN:VCALENDAR
VERSION:2.0
PRODID:-//Plone.org//NONSGML plone.app.event//EN
X-WR-TIMEZONE:America/Sao_Paulo
BEGIN:VEVENT
SUMMARY:ASSEMBLEIA DO SINDIFES em [ Auditorio Nobre do CAD 1]
DTSTART;TZID=America/Sao_Paulo;VALUE=DATE-TIME:20240617T080000
DTEND;TZID=America/Sao_Paulo;VALUE=DATE-TIME:20240617T170000
DTSTAMP;VALUE=DATE-TIME:20260420T025955Z
UID:7f2d599e7b154fb197e982e5076e8b5b@150.164.76.86:8080
CREATED;VALUE=DATE-TIME:20240527T173020Z
DESCRIPTION:<p>ASSEMBLEIA DO SINDIFES</p>
LAST-MODIFIED;VALUE=DATE-TIME:20240612T184603Z
URL:http://150.164.76.86:8080/cac/agenda/15636161216044748719
END:VEVENT
BEGIN:VTIMEZONE
TZID:America/Sao_Paulo
X-LIC-LOCATION:America/Sao_Paulo
BEGIN:STANDARD
DTSTART;VALUE=DATE-TIME:20240217T230000
TZNAME:BRT
TZOFFSETFROM:-0200
TZOFFSETTO:-0300
END:STANDARD
END:VTIMEZONE
END:VCALENDAR
