BEGIN:VCALENDAR
VERSION:2.0
PRODID:-//Plone.org//NONSGML plone.app.event//EN
X-WR-TIMEZONE:America/Sao_Paulo
BEGIN:VEVENT
SUMMARY:V Simpósio de saúde mental\,  Qualidade de vida\, educação e e
 spiritualidade em [ Auditorio A102 do Cad 2]
DTSTART;TZID=America/Sao_Paulo;VALUE=DATE-TIME:20250319T080000
DTEND;TZID=America/Sao_Paulo;VALUE=DATE-TIME:20250321T130000
DTSTAMP;VALUE=DATE-TIME:20260419T120040Z
UID:5ce55f23cdcb4f6d84edb9a2a479906c@150.164.76.86:8080
CREATED;VALUE=DATE-TIME:20250312T152413Z
DESCRIPTION:<p>Evento da PROGRAD</p>
LAST-MODIFIED;VALUE=DATE-TIME:20250317T135018Z
URL:http://150.164.76.86:8080/cac/agenda/15634509013129521148
END:VEVENT
BEGIN:VTIMEZONE
TZID:America/Sao_Paulo
X-LIC-LOCATION:America/Sao_Paulo
BEGIN:STANDARD
DTSTART;VALUE=DATE-TIME:20250215T230000
TZNAME:BRT
TZOFFSETFROM:-0200
TZOFFSETTO:-0300
END:STANDARD
END:VTIMEZONE
END:VCALENDAR
