BEGIN:VCALENDAR
VERSION:2.0
PRODID:-//Plone.org//NONSGML plone.app.event//EN
X-WR-TIMEZONE:America/Sao_Paulo
BEGIN:VEVENT
SUMMARY:em  em [ Auditório B302 do CAD 3 Auditório B101/102 do CAD 3 Aud
 itório B301 do CAD 3 Auditório B106 do CAD3 Auditório B107 do CAD3]
DTSTART;TZID=America/Sao_Paulo;VALUE=DATE-TIME:20221120T060000
DTEND;TZID=America/Sao_Paulo;VALUE=DATE-TIME:20221120T140000
DTSTAMP;VALUE=DATE-TIME:20260421T232554Z
UID:98d0de36462d419a86fa820558889a4a@150.164.76.86:8080
CREATED;VALUE=DATE-TIME:20221011T161515Z
DESCRIPTION:<p><span><span><br /><span>Prezada Cássia\, bom dia!<br /><br
  />Gentileza verificar a disponibilidade do CAD 3 no dia 20/11/22\,  </sp
 an><span>para aplicação das provas da 1ª etapa do concurso para Magistr
 ados do Tribunal de Justiça Militar de Minas Gerais\, organizado pela FUN
 DEP\, que ocorrerá no período da manhã. </span><br /><br /><span>Aguard
 o retorno.</span></span></span></p>\n<p><span>Cordialmente\, </span><span>
    </span></p>\n<p> </p>
LAST-MODIFIED;VALUE=DATE-TIME:20230111T201116Z
URL:http://150.164.76.86:8080/cac/agenda/1563054971494559844
END:VEVENT
BEGIN:VTIMEZONE
TZID:America/Sao_Paulo
X-LIC-LOCATION:America/Sao_Paulo
BEGIN:DAYLIGHT
DTSTART;VALUE=DATE-TIME:20221016T010000
TZNAME:BRST
TZOFFSETFROM:-0300
TZOFFSETTO:-0200
END:DAYLIGHT
END:VTIMEZONE
END:VCALENDAR
