BEGIN:VCALENDAR
VERSION:2.0
PRODID:-//Plone.org//NONSGML plone.app.event//EN
X-WR-TIMEZONE:America/Sao_Paulo
BEGIN:VEVENT
SUMMARY:MOSTRA CAAD em [ Auditorio A102 do Cad 2]
DTSTART;TZID=America/Sao_Paulo;VALUE=DATE-TIME:20250203T170000
DTEND;TZID=America/Sao_Paulo;VALUE=DATE-TIME:20250204T210000
DTSTAMP;VALUE=DATE-TIME:20260419T120040Z
UID:93aba7db375f4042a4fbda68aa5beff1@150.164.76.86:8080
CREATED;VALUE=DATE-TIME:20241030T214218Z
DESCRIPTION:O Evento "MOSTRA CAAD" promove a exibição pública dos traba
 lhos acadêmicos audiovisuais produzidos nas disciplinas do curso de Cinem
 a de Animação e Artes Digitais (CAAD) da UFMG\, incluindo os filmes de c
 onclusão realizados por seus alunos graduandos.\n\nA programação prevê
  a apresentação e exibição dos filmes realizados pelos alunos do CAAD\
 , seguida de debate com seus realizadores conduzida pela equipe organizado
 ra do evento..\n\n1 mesa com 4 cadeiras\;\n\n1 notebook conectado a projet
 or\;\n\n1 projetor para exibição dos projetos audiovisuais\;\n\nSistema 
 de som adequado à projeção\;\n\nTela de projeção\;\n\n3 microfones se
 m fio para condução da apresentação e debate com os realizadores dos f
 ilmes.
LAST-MODIFIED;VALUE=DATE-TIME:20241217T145611Z
URL:http://150.164.76.86:8080/cac/agenda/15595682578470214988
END:VEVENT
BEGIN:VTIMEZONE
TZID:America/Sao_Paulo
X-LIC-LOCATION:America/Sao_Paulo
BEGIN:DAYLIGHT
DTSTART;VALUE=DATE-TIME:20241020T010000
TZNAME:BRST
TZOFFSETFROM:-0300
TZOFFSETTO:-0200
END:DAYLIGHT
END:VTIMEZONE
END:VCALENDAR
