BEGIN:VCALENDAR
VERSION:2.0
PRODID:-//Plone.org//NONSGML plone.app.event//EN
X-WR-TIMEZONE:America/Sao_Paulo
BEGIN:VEVENT
SUMMARY:Café Espeleológico em [ Auditório B106 do CAD3 Outros espacos]
DTSTART;TZID=America/Sao_Paulo;VALUE=DATE-TIME:20231101T080000
DTEND;TZID=America/Sao_Paulo;VALUE=DATE-TIME:20231101T200000
DTSTAMP;VALUE=DATE-TIME:20260420T114900Z
UID:19a2e049549e450993f46fe57ffd5a42@150.164.76.86:8080
CREATED;VALUE=DATE-TIME:20230830T174836Z
DESCRIPTION:<p>8:00h-8::30h - recepção 8:30h-12:00h - mesas redondas 13:
 00h-16:00h - palestras 16:00h-16:30h - coffee break 16:30h-20:00h - palest
 ras Equipamentos necessários que serão levados pela comissão organizado
 ra: notebook\, cameras e dois microfones sem fio. Equipamentos necessário
 s do CAD3: 4 microfones de fio e datashow.</p>
LAST-MODIFIED;VALUE=DATE-TIME:20230830T200045Z
URL:http://150.164.76.86:8080/cac/agenda/15544338476163982689
END:VEVENT
BEGIN:VTIMEZONE
TZID:America/Sao_Paulo
X-LIC-LOCATION:America/Sao_Paulo
BEGIN:DAYLIGHT
DTSTART;VALUE=DATE-TIME:20231015T010000
TZNAME:BRST
TZOFFSETFROM:-0300
TZOFFSETTO:-0200
END:DAYLIGHT
END:VTIMEZONE
END:VCALENDAR
