BEGIN:VCALENDAR
VERSION:2.0
PRODID:-//Plone.org//NONSGML plone.app.event//EN
X-WR-TIMEZONE:America/Sao_Paulo
BEGIN:VEVENT
SUMMARY:Abertura dos 30 Anos do Pós-Lit em [ Outros espacos]
DTSTART;TZID=America/Sao_Paulo;VALUE=DATE-TIME:20231016T093000
DTEND;TZID=America/Sao_Paulo;VALUE=DATE-TIME:20231016T110000
DTSTAMP;VALUE=DATE-TIME:20260421T003605Z
UID:e3d29adc558c46959ed7684912f532ab@150.164.76.86:8080
CREATED;VALUE=DATE-TIME:20231010T203755Z
DESCRIPTION:<p><span style="text-align: left\; text-decoration-thickness: 
 initial\; text-decoration-style: initial\; text-decoration-color: initial\
 ; float: none\; ">Abertura dos 30 Anos do Pós-Lit</span></p>
LAST-MODIFIED;VALUE=DATE-TIME:20231010T203804Z
URL:http://150.164.76.86:8080/cac/agenda/15531041989692217670
END:VEVENT
BEGIN:VTIMEZONE
TZID:America/Sao_Paulo
X-LIC-LOCATION:America/Sao_Paulo
BEGIN:DAYLIGHT
DTSTART;VALUE=DATE-TIME:20231015T010000
TZNAME:BRST
TZOFFSETFROM:-0300
TZOFFSETTO:-0200
END:DAYLIGHT
END:VTIMEZONE
END:VCALENDAR
