BEGIN:VCALENDAR
VERSION:2.0
PRODID:-//Plone.org//NONSGML plone.app.event//EN
X-WR-TIMEZONE:America/Sao_Paulo
BEGIN:VEVENT
SUMMARY:Reunião de equipe em [ Outros espacos]
DTSTART;TZID=America/Sao_Paulo;VALUE=DATE-TIME:20240419T093000
DTEND;TZID=America/Sao_Paulo;VALUE=DATE-TIME:20240419T130000
DTSTAMP;VALUE=DATE-TIME:20260420T044358Z
UID:ce371bb8531446cda6adcd5cb9f52532@150.164.76.86:8080
CREATED;VALUE=DATE-TIME:20240411T115829Z
DESCRIPTION:<p><span><span>Apoio técnico usual<br /></span></span></p>
LAST-MODIFIED;VALUE=DATE-TIME:20240411T115921Z
URL:http://150.164.76.86:8080/cac/agenda/15530983807200467658
END:VEVENT
BEGIN:VTIMEZONE
TZID:America/Sao_Paulo
X-LIC-LOCATION:America/Sao_Paulo
BEGIN:STANDARD
DTSTART;VALUE=DATE-TIME:20240217T230000
TZNAME:BRT
TZOFFSETFROM:-0200
TZOFFSETTO:-0300
END:STANDARD
END:VTIMEZONE
END:VCALENDAR
