BEGIN:VCALENDAR
VERSION:2.0
PRODID:-//Plone.org//NONSGML plone.app.event//EN
X-WR-TIMEZONE:America/Sao_Paulo
BEGIN:VEVENT
SUMMARY:Agenda da Sustentabilidade Ambiental na Era da Biodiversidade em [
  Auditorio A104 do Cad 2 Auditorio A102 do Cad 2]
DTSTART;TZID=America/Sao_Paulo;VALUE=DATE-TIME:20230607T080000
DTEND;TZID=America/Sao_Paulo;VALUE=DATE-TIME:20230607T140000
DTSTAMP;VALUE=DATE-TIME:20260421T145901Z
UID:e3840956950441d2a47e63598a16f95d@150.164.76.86:8080
CREATED;VALUE=DATE-TIME:20230526T193018Z
DESCRIPTION:<p>Equipamentos: áudio visual\, datashow\, microfone\, mesa e
  cadeira\, sistema de som\, wifi\, projetor Programação: PROGRAMAÇÃO W
 ORKSHOP Horário Tema Palestrante Abertura 8:00 – 08:30 Um centro de Con
 hecimento em Biodiversidade para o Megadiverso Brasil Geraldo Wilson Ferna
 ndes (UFMG) Palestras 08:30 - 09:00 Os Desafios da Sustentabilidade em um 
 Clima Mutante Ana Carolina Vasques Freitas (UNIFEI) 09:00 - 09:30 Metas em
  Biodiversidade e Sustentabilidade do Brasil Braulio F. S. Dias (UnB) 09:3
 0 - 10:00 Agricultura Tropical Sustentável: Desafios e Oportunidades Eval
 do Ferreira Vilela (ESALQ/USP) 10:00 – 10:30 Diálogo Ciência\, Socieda
 de e Comunicação Estratégica Fernando Barros (Forum do Futuro) 10:30 - 
 11:00 Coffee-Break 11:00 - 11:30 Sustentabilidade na Mineração Júlio C.
  Nery Ferreira (IBRAM) 11:30 - 12:00 Plano de Mineração Sustentável Tia
 go Moreira Alves (Anglo American) 12:00 - 12:30 Sessão de discussão 12:3
 0 – 12:40 Encerramento. OBS: CONFORME INFORMAÇÕES PREVIAMENTE PASSADAS
  PELA CAC\, NÃO HAVERÁ QUALQUER ATENDIMENTO VIA CAC\, POIS TODOS OS RECU
 RSOS HUMANOS E DE EQUIPAMENTOS JÁ ESTÃO COMPROMETIDOS COM O EVENTO SICBI
 OSUS\, ORGANIZADO PELA PRPQ.</p>
LAST-MODIFIED;VALUE=DATE-TIME:20230526T195744Z
URL:http://150.164.76.86:8080/cac/agenda/15514777379427486337
END:VEVENT
BEGIN:VTIMEZONE
TZID:America/Sao_Paulo
X-LIC-LOCATION:America/Sao_Paulo
BEGIN:STANDARD
DTSTART;VALUE=DATE-TIME:20230225T230000
TZNAME:BRT
TZOFFSETFROM:-0200
TZOFFSETTO:-0300
END:STANDARD
END:VTIMEZONE
END:VCALENDAR
