BEGIN:VCALENDAR
VERSION:2.0
PRODID:-//Plone.org//NONSGML plone.app.event//EN
X-WR-TIMEZONE:America/Sao_Paulo
BEGIN:VEVENT
SUMMARY:Apresentação Grupo Bambulha - Feira do Livro em [ Auditorio Nobr
 e do CAD 1]
DTSTART;TZID=America/Sao_Paulo;VALUE=DATE-TIME:20230330T090000
DTEND;TZID=America/Sao_Paulo;VALUE=DATE-TIME:20230330T150000
DTSTAMP;VALUE=DATE-TIME:20260421T163629Z
UID:ee6a0f4d53bd4b35acfec759b041e0b6@150.164.76.86:8080
CREATED;VALUE=DATE-TIME:20230328T141443Z
DESCRIPTION:Som\, luz\, técnica.
LAST-MODIFIED;VALUE=DATE-TIME:20230328T143524Z
URL:http://150.164.76.86:8080/cac/agenda/15503149167060299707
END:VEVENT
BEGIN:VTIMEZONE
TZID:America/Sao_Paulo
X-LIC-LOCATION:America/Sao_Paulo
BEGIN:STANDARD
DTSTART;VALUE=DATE-TIME:20230225T230000
TZNAME:BRT
TZOFFSETFROM:-0200
TZOFFSETTO:-0300
END:STANDARD
END:VTIMEZONE
END:VCALENDAR
