BEGIN:VCALENDAR
VERSION:2.0
PRODID:-//Plone.org//NONSGML plone.app.event//EN
X-WR-TIMEZONE:America/Sao_Paulo
BEGIN:VEVENT
SUMMARY:17ª Festival de Verão da UFMG em [ Auditorio da Reitoria Saguao 
 da Reitoria Gramado da Reitoria Arena da praça de serviços Entorno da Pr
 aca de Servicos Auditorio 1A do CAD 1 Auditorio 2A do CAD 1 Auditorio A102
  do Cad 2 Auditorio A104 do Cad 2 Auditório B301 do CAD 3 Auditório B302
  do CAD 3 Auditório B107 do CAD3 Outros espacos Auditorio Nobre do CAD 1]
DTSTART;TZID=America/Sao_Paulo;VALUE=DATE-TIME:20230228T060000
DTEND;TZID=America/Sao_Paulo;VALUE=DATE-TIME:20230303T230000
DTSTAMP;VALUE=DATE-TIME:20260421T145733Z
UID:c29c55717ec24b57ae5fcc08126db36a@150.164.76.86:8080
CREATED;VALUE=DATE-TIME:20221110T145238Z
DESCRIPTION:<p>Festival de Verão da UFMG</p>
LAST-MODIFIED;VALUE=DATE-TIME:20230214T170131Z
URL:http://150.164.76.86:8080/cac/agenda/15498989320186439791
END:VEVENT
BEGIN:VTIMEZONE
TZID:America/Sao_Paulo
X-LIC-LOCATION:America/Sao_Paulo
BEGIN:STANDARD
DTSTART;VALUE=DATE-TIME:20230225T230000
TZNAME:BRT
TZOFFSETFROM:-0200
TZOFFSETTO:-0300
END:STANDARD
END:VTIMEZONE
END:VCALENDAR
