BEGIN:VCALENDAR
VERSION:2.0
PRODID:-//Plone.org//NONSGML plone.app.event//EN
X-WR-TIMEZONE:America/Sao_Paulo
BEGIN:VEVENT
SUMMARY:Feriado e recesso escolar - Corpus Christi em [ Auditorio da Reito
 ria Saguao da Reitoria Gramado da Reitoria Arena da praça de serviços En
 torno da Praca de Servicos Auditorio Nobre do CAD 1 Auditorio 1A do CAD 1 
 Auditorio 2A do CAD 1 Auditório B101/102 do CAD 3 Auditório B301 do CAD 
 3 Auditório B302 do CAD 3 Auditório B106 do CAD3 Auditório B107 do CAD3
  Outros espacos]
DTSTART;TZID=America/Sao_Paulo;VALUE=DATE-TIME:20230608T000000
DTEND;TZID=America/Sao_Paulo;VALUE=DATE-TIME:20230609T230000
DTSTAMP;VALUE=DATE-TIME:20260421T150024Z
UID:aafeb69ebbcc404cab7254f3f9c63af8@150.164.76.86:8080
CREATED;VALUE=DATE-TIME:20221110T131929Z
DESCRIPTION:<p>Feriado e recesso escolar</p>
LAST-MODIFIED;VALUE=DATE-TIME:20230111T201131Z
URL:http://150.164.76.86:8080/cac/agenda/15485695880004624081
END:VEVENT
BEGIN:VTIMEZONE
TZID:America/Sao_Paulo
X-LIC-LOCATION:America/Sao_Paulo
BEGIN:STANDARD
DTSTART;VALUE=DATE-TIME:20230225T230000
TZNAME:BRT
TZOFFSETFROM:-0200
TZOFFSETTO:-0300
END:STANDARD
END:VTIMEZONE
END:VCALENDAR
