BEGIN:VCALENDAR
VERSION:2.0
PRODID:-//Plone.org//NONSGML plone.app.event//EN
X-WR-TIMEZONE:America/Sao_Paulo
BEGIN:VEVENT
SUMMARY:Procult - Ensaio aberto do espetáculo O Som do Mundo Desmoronando
  - Graduação Teatro UFMG em [ Auditorio da Reitoria]
DTSTART;TZID=America/Sao_Paulo;VALUE=DATE-TIME:20250121T080000
DTEND;TZID=America/Sao_Paulo;VALUE=DATE-TIME:20250124T120000
DTSTAMP;VALUE=DATE-TIME:20260419T161517Z
UID:610c6f858da142079f885bcdffeaab13@150.164.76.86:8080
CREATED;VALUE=DATE-TIME:20241213T185516Z
DESCRIPTION:<p>Ensaios abertos do espetáculo "O Som do Mundo Desmoronando
 "\, processo de criação dos estudantes da graduação em teatro. O traba
 lho está sob direção do prof Altemar Di Monteiro (email: altemargm@yaho
 o.com.br telefone: +55 85 98720-1135) O período solicitado no sistema inc
 lui a montagem de desmontagem dos materiais utilizados em cena\, mas as ap
 resentações se darão em dois momentos: - 22/01 às 12h30 - 23/01 às 17
 h30 As apresentações serão seguidas de debate. As necessidades técnica
 s serão enviadas posteriormente. Muito obrigada!</p>
LAST-MODIFIED;VALUE=DATE-TIME:20241213T192940Z
URL:http://150.164.76.86:8080/cac/agenda/15468788483326182191
END:VEVENT
BEGIN:VTIMEZONE
TZID:America/Sao_Paulo
X-LIC-LOCATION:America/Sao_Paulo
BEGIN:DAYLIGHT
DTSTART;VALUE=DATE-TIME:20241020T010000
TZNAME:BRST
TZOFFSETFROM:-0300
TZOFFSETTO:-0200
END:DAYLIGHT
END:VTIMEZONE
END:VCALENDAR
