BEGIN:VCALENDAR
VERSION:2.0
PRODID:-//Plone.org//NONSGML plone.app.event//EN
X-WR-TIMEZONE:America/Sao_Paulo
BEGIN:VEVENT
SUMMARY:Ao cair da tarde em [ Arena da praça de serviços]
DTSTART;TZID=America/Sao_Paulo;VALUE=DATE-TIME:20231123T140000
DTEND;TZID=America/Sao_Paulo;VALUE=DATE-TIME:20231123T190000
DTSTAMP;VALUE=DATE-TIME:20260420T142928Z
UID:68a70930591144c8b6bf7761807fd9d8@150.164.76.86:8080
CREATED;VALUE=DATE-TIME:20221124T164212Z
DESCRIPTION:Ao cair da tarde. Somente reserva de espaço\, equipamentos a 
 definir.
LAST-MODIFIED;VALUE=DATE-TIME:20221129T151308Z
URL:http://150.164.76.86:8080/cac/agenda/15458488273688971631
END:VEVENT
BEGIN:VTIMEZONE
TZID:America/Sao_Paulo
X-LIC-LOCATION:America/Sao_Paulo
BEGIN:DAYLIGHT
DTSTART;VALUE=DATE-TIME:20231015T010000
TZNAME:BRST
TZOFFSETFROM:-0300
TZOFFSETTO:-0200
END:DAYLIGHT
END:VTIMEZONE
END:VCALENDAR
