BEGIN:VCALENDAR
VERSION:2.0
PRODID:-//Plone.org//NONSGML plone.app.event//EN
X-WR-TIMEZONE:America/Sao_Paulo
BEGIN:VEVENT
SUMMARY:Domingo no campus Pampulha em [ Auditorio da Reitoria Saguao da Re
 itoria Gramado da Reitoria Arena da praça de serviços Entorno da Praca d
 e Servicos Auditorio Nobre do CAD 1 Auditorio 1A do CAD 1 Auditorio 2A do 
 CAD 1 Auditorio A102 do Cad 2 Auditorio A104 do Cad 2 Auditório B101/102 
 do CAD 3 Auditório B106 do CAD3 Auditório B107 do CAD3 Auditório B301 d
 o CAD 3 Auditório B302 do CAD 3 Auditório B306 do CAD3 Outros espacos]
DTSTART;TZID=America/Sao_Paulo;VALUE=DATE-TIME:20241013T090000
DTEND;TZID=America/Sao_Paulo;VALUE=DATE-TIME:20241013T210000
DTSTAMP;VALUE=DATE-TIME:20260419T193238Z
UID:7414d9dfe8b24d8c9e4428898d3d2902@150.164.76.86:8080
CREATED;VALUE=DATE-TIME:20240612T145348Z
DESCRIPTION:<p>Calendário acadêmico</p>
LAST-MODIFIED;VALUE=DATE-TIME:20240612T145426Z
URL:http://150.164.76.86:8080/cac/agenda/15447825693009764041
END:VEVENT
BEGIN:VTIMEZONE
TZID:America/Sao_Paulo
X-LIC-LOCATION:America/Sao_Paulo
BEGIN:STANDARD
DTSTART;VALUE=DATE-TIME:20240217T230000
TZNAME:BRT
TZOFFSETFROM:-0200
TZOFFSETTO:-0300
END:STANDARD
END:VTIMEZONE
END:VCALENDAR
