BEGIN:VCALENDAR
VERSION:2.0
PRODID:-//Plone.org//NONSGML plone.app.event//EN
X-WR-TIMEZONE:America/Sao_Paulo
BEGIN:VEVENT
SUMMARY:BANCAS DE HETEROIDENTIFICAÇÃO em [ Auditório B106 do CAD3 - s/ 
 ar condic Auditório B107 do CAD3 Outros espacos]
DTSTART;TZID=America/Sao_Paulo;VALUE=DATE-TIME:20240429T070000
DTEND;TZID=America/Sao_Paulo;VALUE=DATE-TIME:20240430T180000
DTSTAMP;VALUE=DATE-TIME:20260420T044444Z
UID:2791c4a2bbe949a392de9525bb8ec5ec@150.164.76.86:8080
CREATED;VALUE=DATE-TIME:20231218T173200Z
DESCRIPTION:<p><span>Bancas de Heteroidentificação para reserva de vagas
  racial nos processos seletivos dos cursos ofertados pela UFMG</span></p>
LAST-MODIFIED;VALUE=DATE-TIME:20231218T173634Z
URL:http://150.164.76.86:8080/cac/agenda/1544435978806089716
END:VEVENT
BEGIN:VTIMEZONE
TZID:America/Sao_Paulo
X-LIC-LOCATION:America/Sao_Paulo
BEGIN:STANDARD
DTSTART;VALUE=DATE-TIME:20240217T230000
TZNAME:BRT
TZOFFSETFROM:-0200
TZOFFSETTO:-0300
END:STANDARD
END:VTIMEZONE
END:VCALENDAR
