BEGIN:VCALENDAR
VERSION:2.0
PRODID:-//Plone.org//NONSGML plone.app.event//EN
X-WR-TIMEZONE:America/Sao_Paulo
BEGIN:VEVENT
SUMMARY:59 REUNIAO DA ABENO em [ Outros espacos Auditório B101/102 do CAD
  3 Auditório B106 do CAD3 - s/ ar condic Auditório B107 do CAD3 Auditori
 o A102 do Cad 2 Auditorio A104 do Cad 2]
DTSTART;TZID=America/Sao_Paulo;VALUE=DATE-TIME:20240708T080000
DTEND;TZID=America/Sao_Paulo;VALUE=DATE-TIME:20240715T220000
DTSTAMP;VALUE=DATE-TIME:20260419T235005Z
UID:d21ecbd1ee224e07b329426ec306c83e@150.164.76.86:8080
CREATED;VALUE=DATE-TIME:20231213T145149Z
DESCRIPTION:<p>serviços de limpeza\, serviços de audiovisual\, serviços
  de portaria\, serviços de segurança\, serviços de copa. Todas as salas
  de aula e salas de reunião\, além do pátio para montagem de tendas\, o
 s 02 auditórios maiores e todos os demais Auditórios. A responsável pel
 o evento solicita a informação da forma de contratação de servidores d
 a UFMG utilizada pelo CAD para apoio ao serviços de audiovisual. O dia 15
 /07/2024 será utilizado para desmontagem de equipamentos.</p>
LAST-MODIFIED;VALUE=DATE-TIME:20240318T120941Z
URL:http://150.164.76.86:8080/cac/agenda/15442991954754479002
END:VEVENT
BEGIN:VTIMEZONE
TZID:America/Sao_Paulo
X-LIC-LOCATION:America/Sao_Paulo
BEGIN:STANDARD
DTSTART;VALUE=DATE-TIME:20240217T230000
TZNAME:BRT
TZOFFSETFROM:-0200
TZOFFSETTO:-0300
END:STANDARD
END:VTIMEZONE
END:VCALENDAR
