BEGIN:VCALENDAR
VERSION:2.0
PRODID:-//Plone.org//NONSGML plone.app.event//EN
X-WR-TIMEZONE:America/Sao_Paulo
BEGIN:VEVENT
SUMMARY:PicadeRRÓ UFMG em [ Arena da praça de serviços]
DTSTART;TZID=America/Sao_Paulo;VALUE=DATE-TIME:20220720T173000
DTEND;TZID=America/Sao_Paulo;VALUE=DATE-TIME:20220720T190000
DTSTAMP;VALUE=DATE-TIME:20260422T044807Z
UID:a864befe58e64956b21530db7786d6c8@150.164.76.86:8080
CREATED;VALUE=DATE-TIME:20220704T185949Z
DESCRIPTION:Oferta de música ao estilo forró e dança de salão durante 
 todo o evento.\n\nMaterial de som e de apoio ofertado pela própria equipe
  do PicadeRRÓ.\n\nApoio da Pró-Reitoria de Assuntos Estudantis (Prae) UF
 MG.\n\nUso de máscara obrigatório durante todo o evento.
LAST-MODIFIED;VALUE=DATE-TIME:20220706T141545Z
URL:http://150.164.76.86:8080/cac/agenda/15440128757294103798
END:VEVENT
BEGIN:VTIMEZONE
TZID:America/Sao_Paulo
X-LIC-LOCATION:America/Sao_Paulo
BEGIN:STANDARD
DTSTART;VALUE=DATE-TIME:20220219T230000
TZNAME:BRT
TZOFFSETFROM:-0200
TZOFFSETTO:-0300
END:STANDARD
END:VTIMEZONE
END:VCALENDAR
