BEGIN:VCALENDAR
VERSION:2.0
PRODID:-//Plone.org//NONSGML plone.app.event//EN
X-WR-TIMEZONE:America/Sao_Paulo
BEGIN:VEVENT
SUMMARY:Concurso curso de graduação em letras - LIBRAS Licenciatura UFMG
  2025 em [ Auditorio Nobre do CAD 1 - sem copa\, saguão parcial Auditorio
  1A do CAD 1 Auditorio 2A do CAD 1]
DTSTART;TZID=America/Sao_Paulo;VALUE=DATE-TIME:20250525T070000
DTEND;TZID=America/Sao_Paulo;VALUE=DATE-TIME:20250525T210000
DTSTAMP;VALUE=DATE-TIME:20260419T091153Z
UID:1631833aab1e4a77944a75920730cd0d@150.164.76.86:8080
CREATED;VALUE=DATE-TIME:20250505T170238Z
DESCRIPTION:<p>Concurso LIBRAS Licenciatura UFMG 2025</p>
LAST-MODIFIED;VALUE=DATE-TIME:20250505T170255Z
URL:http://150.164.76.86:8080/cac/agenda/15424789433407042502
END:VEVENT
BEGIN:VTIMEZONE
TZID:America/Sao_Paulo
X-LIC-LOCATION:America/Sao_Paulo
BEGIN:STANDARD
DTSTART;VALUE=DATE-TIME:20250215T230000
TZNAME:BRT
TZOFFSETFROM:-0200
TZOFFSETTO:-0300
END:STANDARD
END:VTIMEZONE
END:VCALENDAR
