BEGIN:VCALENDAR
VERSION:2.0
PRODID:-//Plone.org//NONSGML plone.app.event//EN
X-WR-TIMEZONE:America/Sao_Paulo
BEGIN:VEVENT
SUMMARY:Seminário dos Residentes do IEAT: Religiões\, política e ciênc
 ias na encruzilhada em [ Auditorio A104 do Cad 2]
DTSTART;TZID=America/Sao_Paulo;VALUE=DATE-TIME:20241001T090000
DTEND;TZID=America/Sao_Paulo;VALUE=DATE-TIME:20241001T180000
DTSTAMP;VALUE=DATE-TIME:20260419T175654Z
UID:4b7c7f3a2a5d44b28a515d8350e21e9b@150.164.76.86:8080
CREATED;VALUE=DATE-TIME:20240627T151853Z
DESCRIPTION:Seminário dos Residentes: Religiões\, política e ciências 
 na encruzilhada. \n\nResidentes do IEAT responsáveis: Camila Nicácio\, M
 arco Aurélio\, Marcelo e Maria Inês\n\nHorário: de 09 horas às 17 hora
 s\n\nPalestrantes:  Pastor Felipe Gibran\; Vagner Gonçalves\; Makota Isab
 ela Dario\; Toré Xacriabá.\n\nSolicitação de apoio de audiovisual à C
 AC
LAST-MODIFIED;VALUE=DATE-TIME:20240627T154651Z
URL:http://150.164.76.86:8080/cac/agenda/15424493917625399842
END:VEVENT
BEGIN:VTIMEZONE
TZID:America/Sao_Paulo
X-LIC-LOCATION:America/Sao_Paulo
BEGIN:STANDARD
DTSTART;VALUE=DATE-TIME:20240217T230000
TZNAME:BRT
TZOFFSETFROM:-0200
TZOFFSETTO:-0300
END:STANDARD
END:VTIMEZONE
END:VCALENDAR
