BEGIN:VCALENDAR
VERSION:2.0
PRODID:-//Plone.org//NONSGML plone.app.event//EN
X-WR-TIMEZONE:America/Sao_Paulo
BEGIN:VEVENT
SUMMARY:Curso de Formação Continuada de secretários(as) de educação e
  equipes técnicas das Secretarias de Educação no âmbito do Programa Es
 cola em Tempo Integral (ETI) em [ Auditório B101/102 do CAD 3]
DTSTART;TZID=America/Sao_Paulo;VALUE=DATE-TIME:20240621T080000
DTEND;TZID=America/Sao_Paulo;VALUE=DATE-TIME:20240621T170000
DTSTAMP;VALUE=DATE-TIME:20260420T014327Z
UID:e54b77d9206445ccaabd58c20e6df571@150.164.76.86:8080
CREATED;VALUE=DATE-TIME:20240511T134539Z
DESCRIPTION:<p>Curso de Formação Continuada de secretários(as) de educa
 ção e equipes técnicas das Secretarias de Educação no âmbito do Prog
 rama Escola em Tempo Integral (ETI)</p>
LAST-MODIFIED;VALUE=DATE-TIME:20240524T173915Z
URL:http://150.164.76.86:8080/cac/agenda/15416416930674576993
END:VEVENT
BEGIN:VTIMEZONE
TZID:America/Sao_Paulo
X-LIC-LOCATION:America/Sao_Paulo
BEGIN:STANDARD
DTSTART;VALUE=DATE-TIME:20240217T230000
TZNAME:BRT
TZOFFSETFROM:-0200
TZOFFSETTO:-0300
END:STANDARD
END:VTIMEZONE
END:VCALENDAR
