BEGIN:VCALENDAR
VERSION:2.0
PRODID:-//Plone.org//NONSGML plone.app.event//EN
X-WR-TIMEZONE:America/Sao_Paulo
BEGIN:VEVENT
SUMMARY:Pré-Congresso de Anatomia: Seminário Sobre Complicações e Poss
 íveis Intercorrências na Harmonização Orofacial e Estética Corporal. 
 em [ Auditório B101/102 do CAD 3]
DTSTART;TZID=America/Sao_Paulo;VALUE=DATE-TIME:20240821T080000
DTEND;TZID=America/Sao_Paulo;VALUE=DATE-TIME:20240823T200000
DTSTAMP;VALUE=DATE-TIME:20260419T222601Z
UID:3d5dbfa0fc914dee89862f14e01e1319@150.164.76.86:8080
CREATED;VALUE=DATE-TIME:20240309T134351Z
DESCRIPTION:<p>Este evento será o lançamento oficial do II Congresso Bra
 sileiro de Anatomia Aplicada à Estética\, que acontecerá em julho de 20
 25. Será um Simpósio presencial\, versando sobre um tema de suma import
 ância para os profissionais que atuam na área da estética: Complicaçõ
 es e Manejo das possíveis intercorrências na área da estética\, tanto 
 facial e corporal. Faremos também\, a demonstração prática de alguns p
 rocedimentos no cadáver do laboratório de anatomia do ICB e transmissão
  ao vivo\, para o auditório\, via internet dedicada. Em hipótese nenhuma
 \, haverá cadáver dentro do auditório do CAD 3. São esperadas cerca de
  300 participantes\, entre profissionais e estudantes.</p>
LAST-MODIFIED;VALUE=DATE-TIME:20240513T131444Z
URL:http://150.164.76.86:8080/cac/agenda/15415996079286186721
END:VEVENT
BEGIN:VTIMEZONE
TZID:America/Sao_Paulo
X-LIC-LOCATION:America/Sao_Paulo
BEGIN:STANDARD
DTSTART;VALUE=DATE-TIME:20240217T230000
TZNAME:BRT
TZOFFSETFROM:-0200
TZOFFSETTO:-0300
END:STANDARD
END:VTIMEZONE
END:VCALENDAR
