BEGIN:VCALENDAR
VERSION:2.0
PRODID:-//Plone.org//NONSGML plone.app.event//EN
X-WR-TIMEZONE:America/Sao_Paulo
BEGIN:VEVENT
SUMMARY:Colação Oficial Turma ICB em [ Auditorio Nobre do CAD 1]
DTSTART;TZID=America/Sao_Paulo;VALUE=DATE-TIME:20220804T140000
DTEND;TZID=America/Sao_Paulo;VALUE=DATE-TIME:20220804T210000
DTSTAMP;VALUE=DATE-TIME:20260422T012714Z
UID:d98f85420c144ab49ed2a24ddc5bcffc@150.164.76.86:8080
CREATED;VALUE=DATE-TIME:20220614T174711Z
DESCRIPTION:<p>Colação de Grau Oficial do Curso de Ciências Biológicas
  da UFMG - +- 20 formandos\, o oficio será enviado via SEI. Estamos 14:00
 \, montagem\, mas a cerimonia começa as 19:00/21:00.</p>
LAST-MODIFIED;VALUE=DATE-TIME:20220707T202405Z
URL:http://150.164.76.86:8080/cac/agenda/15407859121932656154
END:VEVENT
BEGIN:VTIMEZONE
TZID:America/Sao_Paulo
X-LIC-LOCATION:America/Sao_Paulo
BEGIN:STANDARD
DTSTART;VALUE=DATE-TIME:20220219T230000
TZNAME:BRT
TZOFFSETFROM:-0200
TZOFFSETTO:-0300
END:STANDARD
END:VTIMEZONE
END:VCALENDAR
